BEGIN:VCALENDAR
VERSION:2.0
PRODID:-//Kasa De Lengua - ECPv6.15.20//NONSGML v1.0//EN
CALSCALE:GREGORIAN
METHOD:PUBLISH
X-WR-CALNAME:Kasa De Lengua
X-ORIGINAL-URL:https://kasadelengua.com
X-WR-CALDESC:Events for Kasa De Lengua
REFRESH-INTERVAL;VALUE=DURATION:PT1H
X-Robots-Tag:noindex
X-PUBLISHED-TTL:PT1H
BEGIN:VTIMEZONE
TZID:Africa/Accra
BEGIN:STANDARD
TZOFFSETFROM:+0000
TZOFFSETTO:+0000
TZNAME:GMT
DTSTART:20240101T000000
END:STANDARD
END:VTIMEZONE
BEGIN:VTIMEZONE
TZID:UTC
BEGIN:STANDARD
TZOFFSETFROM:+0000
TZOFFSETTO:+0000
TZNAME:UTC
DTSTART:20220101T000000
END:STANDARD
END:VTIMEZONE
BEGIN:VEVENT
DTSTART;TZID=Africa/Accra:20251219T190000
DTEND;TZID=Africa/Accra:20251219T203000
DTSTAMP:20260420T131940
CREATED:20250917T114431Z
LAST-MODIFIED:20250917T115901Z
UID:3526-1766170800-1766176200@kasadelengua.com
SUMMARY:Scholarship Interview Master Class
DESCRIPTION:Expert tips for scholarship interview success: body language\, answers\, and confidence.
URL:https://kasadelengua.com/event_calendar/scholarship-interview-master-class/
CATEGORIES:Scholarship Webinars
END:VEVENT
BEGIN:VEVENT
DTSTART;TZID=UTC:20251213T190000
DTEND;TZID=UTC:20251213T203000
DTSTAMP:20260420T131940
CREATED:20250917T121935Z
LAST-MODIFIED:20250917T121935Z
UID:3540-1765652400-1765657800@kasadelengua.com
SUMMARY:IELTS Webinar Day 4
DESCRIPTION:Final prep session: test-day confidence\, timing strategies\, and Q&A.
URL:https://kasadelengua.com/event_calendar/ielts-webinar-day-4/
CATEGORIES:IELTS Webinars Calendar
END:VEVENT
BEGIN:VEVENT
DTSTART;TZID=UTC:20251205T190000
DTEND;TZID=UTC:20251205T203000
DTSTAMP:20260420T131940
CREATED:20250917T114431Z
LAST-MODIFIED:20250917T114431Z
UID:3525-1764961200-1764966600@kasadelengua.com
SUMMARY:Graduate School Interview Master Class
DESCRIPTION:Prepare for grad school interviews: common questions\, mock interview tips\, and follow-up.
URL:https://kasadelengua.com/event_calendar/graduate-school-interview-master-class/
CATEGORIES:Scholarship Webinars
END:VEVENT
BEGIN:VEVENT
DTSTART;TZID=UTC:20251129T190000
DTEND;TZID=UTC:20251129T203000
DTSTAMP:20260420T131940
CREATED:20250917T121935Z
LAST-MODIFIED:20251122T204827Z
UID:3539-1764442800-1764448200@kasadelengua.com
SUMMARY:IELTS Webinar Day 3
DESCRIPTION:Speaking and Writing strategies: common mistakes and tips for high scores. \n \n 
URL:https://kasadelengua.com/event_calendar/ielts-webinar-day-3/
CATEGORIES:IELTS Webinars Calendar
ORGANIZER;CN="Kasa De lengua":MAILTO:support@kasadelengua.com
END:VEVENT
BEGIN:VEVENT
DTSTART;TZID=UTC:20251121T190000
DTEND;TZID=UTC:20251121T203000
DTSTAMP:20260420T131940
CREATED:20250917T114431Z
LAST-MODIFIED:20250917T114431Z
UID:3524-1763751600-1763757000@kasadelengua.com
SUMMARY:The Early Bird Master Class
DESCRIPTION:How to find early-application opportunities and advantages of applying early.
URL:https://kasadelengua.com/event_calendar/the-early-bird-master-class/
CATEGORIES:Scholarship Webinars
END:VEVENT
BEGIN:VEVENT
DTSTART;TZID=UTC:20251107T190000
DTEND;TZID=UTC:20251107T203000
DTSTAMP:20260420T131940
CREATED:20250917T114429Z
LAST-MODIFIED:20250917T114429Z
UID:3523-1762542000-1762547400@kasadelengua.com
SUMMARY:Statement of Purpose Master Class
DESCRIPTION:Step-by-step guide to writing a compelling Statement of Purpose for scholarships and grad school.
URL:https://kasadelengua.com/event_calendar/statement-of-purpose-master-class/
CATEGORIES:Scholarship Webinars
END:VEVENT
BEGIN:VEVENT
DTSTART;TZID=UTC:20251025T190000
DTEND;TZID=UTC:20251025T203000
DTSTAMP:20260420T131940
CREATED:20250917T121935Z
LAST-MODIFIED:20250917T121935Z
UID:3538-1761418800-1761424200@kasadelengua.com
SUMMARY:IELTS Webinar Day 2
DESCRIPTION:Deep dive into IELTS Listening and Reading sections with practice exercises.
URL:https://kasadelengua.com/event_calendar/ielts-webinar-day-2/
CATEGORIES:IELTS Webinars Calendar
END:VEVENT
BEGIN:VEVENT
DTSTART;TZID=UTC:20251024T190000
DTEND;TZID=UTC:20251024T203000
DTSTAMP:20260420T131940
CREATED:20250917T114429Z
LAST-MODIFIED:20250917T114429Z
UID:3522-1761332400-1761337800@kasadelengua.com
SUMMARY:Cold Email Master Class
DESCRIPTION:How to write cold emails that get responses from professors and scholarship committees.
URL:https://kasadelengua.com/event_calendar/cold-email-master-class/
CATEGORIES:Scholarship Webinars
END:VEVENT
BEGIN:VEVENT
DTSTART;TZID=UTC:20251010T190000
DTEND;TZID=UTC:20251010T203000
DTSTAMP:20260420T131940
CREATED:20250917T114429Z
LAST-MODIFIED:20251010T112430Z
UID:3521-1760122800-1760128200@kasadelengua.com
SUMMARY:Academic Master Class
DESCRIPTION:Strategies for strong academic profiles\, recommendation letters\, and transcripts.
URL:https://kasadelengua.com/event_calendar/academic-master-class/
CATEGORIES:Scholarship Webinars
END:VEVENT
BEGIN:VEVENT
DTSTART;TZID=Africa/Accra:20250927T190000
DTEND;TZID=Africa/Accra:20250927T203000
DTSTAMP:20260420T131940
CREATED:20250917T121935Z
LAST-MODIFIED:20250917T122409Z
UID:3537-1758999600-1759005000@kasadelengua.com
SUMMARY:IELTS Webinar Day 1
DESCRIPTION:Prepare for the IELTS exam: strategies\, practice tips\, and test-day guidance.
URL:https://kasadelengua.com/event_calendar/ielts-webinar-day-1/
CATEGORIES:IELTS Webinars Calendar
ORGANIZER;CN="Kasa De lengua":MAILTO:support@kasadelengua.com
END:VEVENT
BEGIN:VEVENT
DTSTART;TZID=UTC:20250926T190000
DTEND;TZID=UTC:20250926T203000
DTSTAMP:20260420T131940
CREATED:20250917T114429Z
LAST-MODIFIED:20250917T114429Z
UID:3520-1758913200-1758918600@kasadelengua.com
SUMMARY:Scholarship Class 102
DESCRIPTION:Follow-up to Scholarship Class 101: application documents deep-dive and common mistakes.
URL:https://kasadelengua.com/event_calendar/scholarship-class-102/
CATEGORIES:Scholarship Webinars
END:VEVENT
BEGIN:VEVENT
DTSTART;TZID=Africa/Accra:20250919T190000
DTEND;TZID=Africa/Accra:20250919T203000
DTSTAMP:20260420T131940
CREATED:20250917T114429Z
LAST-MODIFIED:20250918T162435Z
UID:3519-1758308400-1758313800@kasadelengua.com
SUMMARY:Scholarship Class 101
DESCRIPTION:Intro to scholarship applications: eligibility\, timelines\, and first steps. Q&A at the end.
URL:https://kasadelengua.com/event_calendar/scholarship-class-101/
CATEGORIES:Scholarship Webinars
ORGANIZER;CN="Kasa De lengua":MAILTO:support@kasadelengua.com
END:VEVENT
BEGIN:VEVENT
DTSTART;TZID=UTC:20230415T080000
DTEND;TZID=UTC:20230415T170000
DTSTAMP:20260420T131940
CREATED:20230404T080002Z
LAST-MODIFIED:20230404T080002Z
UID:1107-1681545600-1681578000@kasadelengua.com
SUMMARY:Navigating the World of Language
DESCRIPTION:Navigating the World of Language: A Professional Development Seminar on Translation and Interpretation
URL:https://kasadelengua.com/event_calendar/navigating-the-world-of-language/
END:VEVENT
END:VCALENDAR