BEGIN:VCALENDAR
VERSION:2.0
PRODID:-//Kasa De Lengua - ECPv6.15.20//NONSGML v1.0//EN
CALSCALE:GREGORIAN
METHOD:PUBLISH
X-WR-CALNAME:Kasa De Lengua
X-ORIGINAL-URL:https://kasadelengua.com
X-WR-CALDESC:Events for Kasa De Lengua
REFRESH-INTERVAL;VALUE=DURATION:PT1H
X-Robots-Tag:noindex
X-PUBLISHED-TTL:PT1H
BEGIN:VTIMEZONE
TZID:UTC
BEGIN:STANDARD
TZOFFSETFROM:+0000
TZOFFSETTO:+0000
TZNAME:UTC
DTSTART:20220101T000000
END:STANDARD
END:VTIMEZONE
BEGIN:VEVENT
DTSTART;TZID=UTC:20230415T080000
DTEND;TZID=UTC:20230415T170000
DTSTAMP:20260420T144440
CREATED:20230404T080002Z
LAST-MODIFIED:20230404T080002Z
UID:1107-1681545600-1681578000@kasadelengua.com
SUMMARY:Navigating the World of Language
DESCRIPTION:Navigating the World of Language: A Professional Development Seminar on Translation and Interpretation
URL:https://kasadelengua.com/event_calendar/navigating-the-world-of-language/
END:VEVENT
END:VCALENDAR